Workbook
Name benchfee_amount: parameters!$B$31
Name callnaam: Budget!$A$1
Name cash_cofunding_minperc: parameters!$B$76
Name cash_invoice: parameters!$B$81
Name categories_pers_ac: salaries_academic[category]
Name CfP_tariffs_other_inst: parameters!$B$34
Name cofunding_inkind_def_rates: parameters!$B$78
Name cofunding_junior_rate: parameters!$B$79
Name cofunding_max_perc: parameters!$B$75
Name cofunding_min_perc: parameters!$B$74
Name cofunding_perc: Budget!#REF!
Name cofunding_private_minperc: parameters!$B$77
Name cofunding_senior_rate: parameters!$B$80
Name cofunding_threshold: parameters!$B$73
Name date: Budget!$B$2
Name empty_lines: parameters!$B$12
Name enddate: Budget!$D$7
Name file_creation_date: parameters!$B$3
Name File_number: Budget!$B$6
Name footer_MFC: Budget!$A$87:$H$88
Name FTE_year_PhD_PD: checks!$F$112
Name header_MfC: Budget!#REF!
Name HOT_rate_type: parameters!$B$33
Name HOT_rates: parameters!$B$32
Name Int_maxamount: parameters!$B$63
Name Int_maxamount_perc: parameters!$B$64
Name Int_MfC_maxamount: parameters!$B$61
Name Int_MfC_maxperc: parameters!$B$62
Name inv_max_total_amount: parameters!$B$51
Name inv_min_perc_own_contr: parameters!$B$49
Name inv_min_total_amount: parameters!$B$50
Name inv_own_contribution: parameters!$B$47
Name KU_entrepeneurship_max_amount: parameters!$B$55
Name KU_entrepeneurship_minperc: parameters!$B$54
Name KU_max_amount: parameters!$B$56
Name KU_maxperc: parameters!$B$58
Name KU_minperc: parameters!$B$57
Name list_ac_other_combined: parameters!$E$299:$E$306
Name list_academic_personnel: parameters!$A$299:$A$308
Name list_kind_cash_cofunding: parameters!$G$299:$G$316
Name list_personnel_other_inst: parameters!$C$299:$C$306
Name Main_applicant: Budget!$E$2
Name main_applicant_organisation: Budget!$B$3
Name main_applicant_type_organisation: Budget!$B$4
Name mat_cleanroom_maxamount: parameters!$B$44
Name mat_cleanroom_minamount: parameters!$B$43
Name mat_costs_accountant: parameters!$B$42
Name Mat_max_FTE_year: parameters!$B$38
Name Mat_max_FTE_year_other_inst: parameters!$B$41
Name Max_mat_FTE_year: parameters!$B$38
Name Max_NWO_funding: parameters!$B$8
Name max_NWO_funding_with_inv_nature: parameters!$B$7
Name max_NWO_funding_wo_inv_nature: parameters!$B$6
Name Max_project_duration: parameters!$B$9
Name MfC_maxamount: parameters!$B$65
Name MfC_maxperc: parameters!$B$66
Name Min_NWO_funding: parameters!$B$4
Name NFU_rates: parameters!$B$16
Name notes: Budget!$I$1
Name organisation_name: parameters!$B$11

Sheet Summary
A1: Finance Summary
A2: Name call: | B2: =callnaam -> KIN Pact netwerksubsidie 2026
A3: VSNU: | B3: =VSNU_rates -> 45474
A4: NFU: | B4: =NFU_rates -> 45413
A5: HOT-Tabel van: | B5: =HOT_rates -> 2026
A6: File number: | B6: =IF(ISBLANK(File_number),"-",File_number) -> -
A7: Cash cofunding via: | B7: =cash_invoice -> knowledge institute
A9: Expenses
A10: Budget post | B10: Amount
A11: Total personnel | B11: =Total_personnel_costs -> 0
A12: -Personnel ac. institutes (incl benchfee) | B12: =Total_personnel_ac_institutes+Total_benchfee -> 0
A13: -Personnel other institutes | B13: =Total_personnel_other+pers_other_inst_2021[[#Totals],[Amount]] -> 0
A14: Total Material | B14: =Total_material_costs -> 0
A15: Total Investments (incl by inst) | B15: =Total_investments+Total_invest_by_KI -> 0
A16: Total Knowledge Utilisation | B16: =Total_KU_and_entrepeneurship -> 0
A17: Total Internationalisation | B17: =Total_internationalisation -> 0
A18: Total Money follow Cooperation | B18: =Total_MfC -> 0
A19: Total project management | B19: =Total_project_mngmnt -> 0
A20: Total required resources | B20: =Total_personnel_costs+Total_material_costs+Total_investments+Total_KU_and_entrepeneurship+Total_internationalisation+Total_MfC+Total_project_mngmnt -> 0
A22: Funding
A23: Type of funding | B23: Amount | C23: Via NWO | D23: Via institute
A24: NWO funding | B24: =Total_NWO_funding -> 0 | C24: =Total_NWO_funding -> 0 | D24: N/A
A25: In-kind cofunding | B25: =Total_cofunding_inkind -> 0 | C25: N/A | D25: N/A
A26: Investments via institute | B26: =Total_invest_by_KI -> 0 | C26: N/A | D26: =Total_invest_by_KI -> 0
A27: In-cash cofunding | B27: =Total_cofunding_incash -> 0 | C27: =IF(cash_invoice="NWO",Total_cofunding_incash,0) -> 0 | D27: =Total_cofunding_incash-C27 -> 0
A28: Project fee | B28: =Total_projectfee -> 0 | C28: =IF(cash_invoice="NWO",Total_projectfee,0) -> 0 | D28: =Total_projectfee-C28 -> 0
A29: TKI/PPS-allowance | B29: =Total_TKI_PPS_allowance -> 0 | C29: =Total_TKI_PPS_allowance -> 0 | D29: =Total_TKI_PPS_allowance-C29 -> 0
A30: -Total in-cash | B30: =Total_invest_by_KI+Total_incash_cofunding+Total_projectfee+Total_TKI_PPS_allowance -> 0 | C30: =SUM(C26:C28) -> 0 | D30: =SUM(D25:D28) -> 0
A31: Total funding | B31: =SUM(B24:B29) -> 0 | C31: =SUM(C24:C29) -> 0 | D31: =SUM(D24:D29) -> 0
A33: Total project budget | B33: =Total_resources+Total_cofunding_inkind -> 0
A34: Total requested NWO budget | B34: =Total_NWO_funding -> 0
A35: Total via NWO (for tranches) | B35: =Total_cash_via_NWO -> 0
A37: Required resources per organisation type (excl. investments by inst.) | G37: =IFERROR(MATCH("Co-funding",Budget!A1:A8086,0),999) -> 999 | I37: Cofunding per organisation type (excl TKI/PPS-allowance)
A38: Organisation type | B38: Amount | I38: Organisation type | J38: Amount
A39: University | B39: =SUMIF(INDIRECT("Budget!F1:F"&row_cofunding),A39,INDIRECT("Budget!H1:H"&row_cofunding)) -> 0 | I39: Association Public | J39: =IFERROR(SUMIF(INDIRECT("Budget!F"&row_cofunding&":F9999"),I39,INDIRECT("Budget!H"&row_cofunding&":H99999")),"-") -> 0
A40: UMC | B40: =SUMIF(INDIRECT("Budget!F1:F"&row_cofunding),A40,INDIRECT("Budget!H1:H"&row_cofunding)) -> 0 | I40: Association Private | J40: =IFERROR(SUMIF(INDIRECT("Budget!F"&row_cofunding&":F9999"),I40,INDIRECT("Budget!H"&row_cofunding&":H99999")),"-") -> 0
A41: NWO institute | B41: =SUMIF(INDIRECT("Budget!F1:F"&row_cofunding),A41,INDIRECT("Budget!H1:H"&row_cofunding)) -> 0 | I41: Business micro | J41: =IFERROR(SUMIF(INDIRECT("Budget!F"&row_cofunding&":F9999"),I41,INDIRECT("Budget!H"&row_cofunding&":H99999")),"-") -> 0
A42: KNAW institute | B42: =SUMIF(INDIRECT("Budget!F1:F"&row_cofunding),A42,INDIRECT("Budget!H1:H"&row_cofunding)) -> 0 | I42: Business SME | J42: =IFERROR(SUMIF(INDIRECT("Budget!F"&row_cofunding&":F9999"),I42,INDIRECT("Budget!H"&row_cofunding&":H99999")),"-") -> 0
A43: University of applied sciences | B43: =SUMIF(INDIRECT("Budget!F1:F"&row_cofunding),A43,INDIRECT("Budget!H1:H"&row_cofunding)) -> 0 | I43: Business large | J43: =IFERROR(SUMIF(INDIRECT("Budget!F"&row_cofunding&":F9999"),I43,INDIRECT("Budget!H"&row_cofunding&":H99999")),"-") -> 0
A44: TO2 institute | B44: =SUMIF(INDIRECT("Budget!F1:F"&row_cofunding),A44,INDIRECT("Budget!H1:H"&row_cofunding)) -> 0 | I44: Citizen initiative | J44: =IFERROR(SUMIF(INDIRECT("Budget!F"&row_cofunding&":F9999"),I44,INDIRECT("Budget!H"&row_cofunding&":H99999")),"-") -> 0
...

Sheet Budget
A1: KIN Pact netwerksubsidie 2026 | I1: Notes on budget format: - Only the blue-marked fields should be filled in; - Under ‘Organisation type’, please select the type of the beneficiary organisation (in case of main or co-applicants) or type of co-funding organisation (in case of a co-funder); - In case you do not have to pay VAT because of own appointments, VAT cannot be included in the budget; - You may wish to consult the instruction manual on this budget form, which can be found on the website of this call.
A2: Date: | C2: Main applicant:
A3: Name organisation main applicant:
A4: Type organisation main applicant:
A5: Project title: | I5: =IF(AND(Total_NWO_funding>0,Project_title=""),checks!$B$118,"")
A6: File number (filled in by NWO):
A7: Start and end date: | C7: until | I7: =combined_dates[Combined notes start/end date]
A8: Duration proposed project in months: | B8: =IF(OR(ISBLANK(startdate),ISBLANK(enddate)),"",ROUND(IF(ISERROR(YEARFRAC(startdate,enddate)*12),"",(YEARFRAC(startdate,enddate,1)*12)),1)) | I8: =IF(AND(LEN(project_duration)>0,project_duration>Max_project_duration),checks!B124,"")
A10: Summary | H10: Totals
A11: Total funding | H11: =Total_personnel_costs+Total_material_costs+Total_internationalisation+Total_MfC -> 0 | I11: =IF(Total_NWO_funding>Max_NWO_funding,checks!$B$126,IF(AND(Total_NWO_funding<Min_NWO_funding,Total_NWO_funding<>0),checks!$B$125,""))
A13: Personnel costs
A14: Personnel other institutes | I14: Provide 1 position per row.
A15: Description | B15: Scale | C15: Total # hrs | D15: Hourly rate | E15: Months | F15: Organisation type | G15: Name organisation | H15: Amount
H16: =IF(pers_other_inst_2021[[#This Row],[Hourly rate]]*pers_other_inst_2021[[#This Row],[Total '# hrs]]>0,pers_other_inst_2021[[#This Row],[Hourly rate]]*pers_other_inst_2021[[#This Row],[Total '# hrs]],"") | I16: =checks!B416
A17: Test | H17: =IF(pers_other_inst_2021[[#This Row],[Hourly rate]]*pers_other_inst_2021[[#This Row],[Total '# hrs]]>0,pers_other_inst_2021[[#This Row],[Hourly rate]]*pers_other_inst_2021[[#This Row],[Total '# hrs]],"") | I17: =checks!B417
A18: Test | H18: =IF(pers_other_inst_2021[[#This Row],[Hourly rate]]*pers_other_inst_2021[[#This Row],[Total '# hrs]]>0,pers_other_inst_2021[[#This Row],[Hourly rate]]*pers_other_inst_2021[[#This Row],[Total '# hrs]],"") | I18: =checks!B418
A19: Test | H19: =IF(pers_other_inst_2021[[#This Row],[Hourly rate]]*pers_other_inst_2021[[#This Row],[Total '# hrs]]>0,pers_other_inst_2021[[#This Row],[Hourly rate]]*pers_other_inst_2021[[#This Row],[Total '# hrs]],"") | I19: =checks!B419
I20: =checks!B420
H21: =IF(pers_other_inst_2021[[#This Row],[Hourly rate]]*pers_other_inst_2021[[#This Row],[Total '# hrs]]>0,pers_other_inst_2021[[#This Row],[Hourly rate]]*pers_other_inst_2021[[#This Row],[Total '# hrs]],"") | I21: =checks!B421
H22: =IF(pers_other_inst_2021[[#This Row],[Hourly rate]]*pers_other_inst_2021[[#This Row],[Total '# hrs]]>0,pers_other_inst_2021[[#This Row],[Hourly rate]]*pers_other_inst_2021[[#This Row],[Total '# hrs]],"") | I22: =checks!B422
H23: =IF(pers_other_inst_2021[[#This Row],[Hourly rate]]*pers_other_inst_2021[[#This Row],[Total '# hrs]]>0,pers_other_inst_2021[[#This Row],[Hourly rate]]*pers_other_inst_2021[[#This Row],[Total '# hrs]],"") | I23: =checks!B423
H24: =IF(pers_other_inst_2021[[#This Row],[Hourly rate]]*pers_other_inst_2021[[#This Row],[Total '# hrs]]>0,pers_other_inst_2021[[#This Row],[Hourly rate]]*pers_other_inst_2021[[#This Row],[Total '# hrs]],"") | I24: =checks!B424
H25: =IF(pers_other_inst_2021[[#This Row],[Hourly rate]]*pers_other_inst_2021[[#This Row],[Total '# hrs]]>0,pers_other_inst_2021[[#This Row],[Hourly rate]]*pers_other_inst_2021[[#This Row],[Total '# hrs]],"") | I25: =checks!B425
H26: =IF(pers_other_inst_2021[[#This Row],[Hourly rate]]*pers_other_inst_2021[[#This Row],[Total '# hrs]]>0,pers_other_inst_2021[[#This Row],[Hourly rate]]*pers_other_inst_2021[[#This Row],[Total '# hrs]],"") | I26: =checks!B426
H27: =IF(pers_other_inst_2021[[#This Row],[Hourly rate]]*pers_other_inst_2021[[#This Row],[Total '# hrs]]>0,pers_other_inst_2021[[#This Row],[Hourly rate]]*pers_other_inst_2021[[#This Row],[Total '# hrs]],"") | I27: =checks!B427
H28: =IF(pers_other_inst_2021[[#This Row],[Hourly rate]]*pers_other_inst_2021[[#This Row],[Total '# hrs]]>0,pers_other_inst_2021[[#This Row],[Hourly rate]]*pers_other_inst_2021[[#This Row],[Total '# hrs]],"") | I28: =checks!B428
H29: =IF(pers_other_inst_2021[[#This Row],[Hourly rate]]*pers_other_inst_2021[[#This Row],[Total '# hrs]]>0,pers_other_inst_2021[[#This Row],[Hourly rate]]*pers_other_inst_2021[[#This Row],[Total '# hrs]],"") | I29: =checks!B429
H30: =IF(pers_other_inst_2021[[#This Row],[Hourly rate]]*pers_other_inst_2021[[#This Row],[Total '# hrs]]>0,pers_other_inst_2021[[#This Row],[Hourly rate]]*pers_other_inst_2021[[#This Row],[Total '# hrs]],"") | I30: =checks!B430
H31: =IF(pers_other_inst_2021[[#This Row],[Hourly rate]]*pers_other_inst_2021[[#This Row],[Total '# hrs]]>0,pers_other_inst_2021[[#This Row],[Hourly rate]]*pers_other_inst_2021[[#This Row],[Total '# hrs]],"") | I31: =checks!B431
H32: =IF(pers_other_inst_2021[[#This Row],[Hourly rate]]*pers_other_inst_2021[[#This Row],[Total '# hrs]]>0,pers_other_inst_2021[[#This Row],[Hourly rate]]*pers_other_inst_2021[[#This Row],[Total '# hrs]],"") | I32: =checks!B432
... H35: =IF(pers_other_inst_2021[[#This Row],[Hourly rate]]*pers_other_inst_2021[[#This Row],[Total '# hrs]]>0,pers_other_inst_2021[[#This Row],[Hourly rate]]*pers_other_inst_2021[[#This Row],[Total '# hrs]],"") | I35: =checks!B435
G36: Sub total: | H36: =SUM(pers_other_inst_2021[Amount]) -> 0
G37: Total personnel costs: | H37: =Total_personnel_ac_institutes+Total_benchfee+Total_personnel_other+Total_other_inst_2021 -> 0
A39: Material costs
A40: Project-related goods/services
A41: Description | F41: Organisation type | G41: Name organisation | H41: Amount
I42: =IF(AND(goods_services[[#This Row],[Amount]]>0,organisation_type="yes",goods_services[[#This Row],[Organisation type]]=""),checks!$B$146,IF(AND(goods_services[[#This Row],[Amount]]>0,organisation_name="yes",goods_services[[#This Row],[Name organisation]]=""),checks!$B$147,IF(AND(LEN(goods_services[[#This Row],[Description]])>0,LEN(A41)=0),checks!$B$127,"")))
I43: =IF(AND(goods_services[[#This Row],[Amount]]>0,organisation_type="yes",goods_services[[#This Row],[Organisation type]]=""),checks!$B$146,IF(AND(goods_services[[#This Row],[Amount]]>0,organisation_name="yes",goods_services[[#This Row],[Name organisation]]=""),checks!$B$147,IF(AND(LEN(goods_services[[#This Row],[Description]])>0,LEN(A42)=0),checks!$B$127,"")))
I44: =IF(AND(goods_services[[#This Row],[Amount]]>0,organisation_type="yes",goods_services[[#This Row],[Organisation type]]=""),checks!$B$146,IF(AND(goods_services[[#This Row],[Amount]]>0,organisation_name="yes",goods_services[[#This Row],[Name organisation]]=""),checks!$B$147,IF(AND(LEN(goods_services[[#This Row],[Description]])>0,LEN(A43)=0),checks!$B$127,"")))
I45: =IF(AND(goods_services[[#This Row],[Amount]]>0,organisation_type="yes",goods_services[[#This Row],[Organisation type]]=""),checks!$B$146,IF(AND(goods_services[[#This Row],[Amount]]>0,organisation_name="yes",goods_services[[#This Row],[Name organisation]]=""),checks!$B$147,IF(AND(LEN(goods_services[[#This Row],[Description]])>0,LEN(A44)=0),checks!$B$127,"")))
...

Sheet parameters
A2: General parameters
A3: File originally created: | B3: 45630.576
A4: Min NWO funding | B4: 0
A5: Threshold amount investments for investment nature | B5: N/A
A6: Max NWO funding - without investment nature | B6: N/A
A7: Max NWO funding - with investment nature | B7: N/A
A8: Max NWO funding | B8: 30000
A9: Max project duration [months] | B9: 12
A10: Organisation type applicable | B10: yes | C10: yes: column to specify organisation type
A11: Organisation name applicable | B11: yes | C11: yes: column to provide organisation name
A12: Allow empty lines in between budget posts | B12: yes | C12: if no: warning appears in Budget sheet with empty lines
A14: Personnel
A15: date VSNU rates | B15: 45474
A16: date NFU rates | B16: 45413
A17: Min (equiv.) duration PhD [months] | B17: 48 | C17: per individual budget post
A18: Max (equiv) duration PhD [months] | B18: 48 | C18: per individual budget post
A19: Min (equiv.) duration 3-year PhD [months] | B19: 36 | C19: per individual budget post
A20: Max (equiv.) duration PDEng [months] | B20: 24 | C20: per individual budget post
A21: Min (equiv.) duration PD [months] | B21: 6 | C21: per individual budget post
A22: Max (equiv.) duration PD [months] | B22: 48 | C22: per individual budget post
A23: Maximum amount Non-Scientific Personnel | B23: 100000
A24: Min (equiv) duration NSP position [months] | B24: 6 | C24: per individual budget post
A25: Max (equiv) duration NSP position [months] | B25: 48 | C25: per individual budget post
A26: Maximum amount Other scientific personnel | B26: 100000
A27: Min (equiv) duration OSP position [months] | B27: 6 | C27: per individual budget post
A28: Max (equiv) duration OSP position [months] | B28: 48 | C28: per individual budget post
A29: Research leave - max perc of NWO funding | B29: 1
A30: Research leave - max duration [eq. months] | B30: 5 | C30: per individual budget post
A31: Benchfee amount | B31: 5000 | C31: per position
A32: date HOT rates | B32: 2026
A33: Type HOT rates | B33: Cost Plus
A34: Section CfP max tariffs personell other institutes. | B34: 3.2.1
A35: # hours/year for non-academic personnel | B35: 1354
A37: Materials
A38: Maximum allowed requested amount /FTE /year PostDoc/PhD/PDEng | B38: 30000
A39: Minimum nr of months appointment of non-academic researcher to allow for material budget | B39: 0
A40: Minimum FTE of non-academic researcher to allow for material budget | B40: 0
A41: Maximum allowed requested material budget per non-academic researcher, per year of appointment | B41: 30000
A42: Costs accountant | B42: 0
A43: Minimum total costs cleanroom (if >€ 0) | B43: 40000
...

Sheet checks
A2: Checks on input
B8: Check exceeding max amount Other Scientific Personnel | E8: Check FTE*year by PhD, PD and PDEng for Material costs | H8: Check FTE*year by Scientific employee non-academic for Material costs | K8: Check exceeding max amount Non-Scientific Personnel | N8: Check exceeding max FTE * months Research leave | Q8: Benchfee only for PhD, PD, PDENg + Industrial/Societal Doctorates | X8: Private co-funding - inkind | Y8: Private co-funding - incash
B9: Row in table | C9: Amount | E9: Row in table | F9: FTE*year | H9: Row in table containing 'researcher' | I9: years | K9: Row in table | L9: Amount | N9: Row in table | O9: Amount | Q9: Row in table
R10: Category | S10: FTE | T10: Months | U10: Organisation | V10: Name org | X10: Amount | Y10: Amount
B11: =IF(IFERROR(MATCH("*Other*",OFFSET(Budget!#REF!,B10,0,ROWS(#REF!),1),0)+B10,999)<ROWS(#REF!),IFERROR(MATCH("*Other*",OFFSET(Budget!#REF!,B10,0,ROWS(#REF!),1),0)+B10,999),"") -> #REF! | C11: =IFERROR(INDEX(#REF!,B11),"") | E11: =IF(MIN(IFERROR(MATCH("*PostDoc*",OFFSET(Budget!#REF!,E10,0,ROWS(#REF!),1),0)+E10,999),IFERROR(MATCH("*PhD*",OFFSET(Budget!#REF!,E10,0,ROWS(#REF!),1),0)+E10,999),IFERROR(MATCH("*PDEng*",OFFSET(Budget!#REF!,E10,0,ROWS(#REF!),1),0)+E10,999))<ROWS(#REF!),MIN(IFERROR(MATCH("*PostDoc*",OFFSET(Budget!#REF!,E10,0,ROWS(#REF!),1),0)+E10,999),IFERROR(MATCH("*PhD*",OFFSET(Budget!#REF!,E10,0,ROWS(#REF!),1),0)+E10,999),IFERROR(MATCH("*PDEng*",OFFSET(Budget!#REF!,E10,0,ROWS(#REF!),1),0)+E10,999)),"") -> #REF! | F11: =IFERROR(INDEX(#REF!,E11)*INDEX(#REF!,E11)/12,"") | H11: =IF(IFERROR(MATCH("*researcher*",OFFSET(Budget!#REF!,H10,0,ROWS(#REF!),1),0)+H10,999)<ROWS(#REF!),IFERROR(MATCH("*researcher*",OFFSET(Budget!#REF!,H10,0,ROWS(#REF!),1),0)+H10,999),"") -> #REF! | I11: =IF(ISERROR(IF(AND(INDEX(#REF!,H11)>=pers_oi_min_months,INDEX(#REF!,H11)/INDEX(#REF!,H11)*12/pers_other_nrhours_year>=pers_oi_minFTE)=TRUE,INDEX(#REF!,H11)/12,0)),"",IF(AND(INDEX(#REF!,H11)>=pers_oi_min_months,INDEX(#REF!,H11)/INDEX(#REF!,H11)*12/pers_other_nrhours_year>=pers_oi_minFTE)=TRUE,INDEX(#REF!,H11)/12,"")) | K11: =IF(IFERROR(MATCH("*Non-scientific*",OFFSET(Budget!#REF!,K10,0,ROWS(#REF!),1),0)+K10,999)<ROWS(#REF!),IFERROR(MATCH("*Non-scientific*",OFFSET(Budget!#REF!,K10,0,ROWS(#REF!),1),0)+K10,999),"") -> #REF! | L11: =IFERROR(INDEX(#REF!,K11),"") | N11: =IF(IFERROR(MATCH("*leave*",OFFSET(Budget!#REF!,N10,0,ROWS(#REF!),1),0)+N10,999)<ROWS(#REF!),IFERROR(MATCH("*leave*",OFFSET(Budget!#REF!,N10,0,ROWS(#REF!),1),0)+N10,999),"") -> #REF! | O11: =IFERROR(INDEX(#REF!,N11)*INDEX(#REF!,N11),"") | Q11: =IF(MIN(IFERROR(MATCH("*PostDoc*",OFFSET(Budget!#REF!,Q10,0,ROWS(#REF!)-Q10,1),0)+Q10,999),IFERROR(MATCH("*PhD*",OFFSET(Budget!#REF!,Q10,0,ROWS(#REF!)-Q10,1),0)+Q10,999),IFERROR(MATCH("*PDEng*",OFFSET(Budget!#REF!,Q10,0,ROWS(#REF!)-Q10,1),0)+Q10,999),IFERROR(MATCH("*Doctorate*",OFFSET(Budget!#REF!,Q10,0,ROWS(#REF!)-Q10,1),0)+Q10,999))<ROWS(#REF!),MIN(IFERROR(MATCH("*PostDoc*",OFFSET(Budget!#REF!,Q10,0,ROWS(#REF!)-Q10,1),0)+Q10,999),IFERROR(MATCH("*PhD*",OFFSET(Budget!#REF!,Q10,0,ROWS(#REF!)-Q10,1),0)+Q10,999),IFERROR(MATCH("*PDEng*",OFFSET(Budget!#REF!,Q10,0,ROWS(#REF!)-Q10,1),0)+Q10,999),IFERROR(MATCH("*Doctorate*",OFFSET(Budget!#REF!,Q10,0,ROWS(#REF!)-Q10,1),0)+Q10,999)),"") -> #REF! | R11: =IFERROR(INDEX(#REF!,Q11),"") | S11: =IFERROR(INDEX(#REF!,Q11),"") | T11: =IFERROR(INDEX(#REF!,Q11),"") | U11: =SUBSTITUTE(IFERROR(INDEX(#REF!,Q11),""),0,"") | V11: =SUBSTITUTE(IFERROR(INDEX(#REF!,Q11),""),0,"") | X11: =IF(ROW(E1548)-ROW($E$1548)<ROWS(#REF!),IFERROR(IF(INDEX(list_cofunders[private?],MATCH(Budget!#REF!,list_cofunders[list cofunders],0),1)="yes",Budget!#REF!,""),""),"") -> #REF! | Y11: =IF(ROW(E1651)-ROW($E$1651)<ROWS(#REF!),IFERROR(IF(INDEX(list_cofunders[private?],MATCH(Budget!#REF!,list_cofunders[list cofunders],0),1)="yes",Budget!#REF!,""),""),"") -> #REF! | Z11: =IFERROR(INDEX(#REF!,X11),"")
B12: =IF(IFERROR(MATCH("*Other*",OFFSET(Budget!#REF!,B11,0,ROWS(#REF!),1),0)+B11,999)<ROWS(#REF!),IFERROR(MATCH("*Other*",OFFSET(Budget!#REF!,B11,0,ROWS(#REF!),1),0)+B11,999),"") -> #REF! | C12: =IFERROR(INDEX(#REF!,B12),"") | E12: =IF(MIN(IFERROR(MATCH("*PostDoc*",OFFSET(Budget!#REF!,E11,0,ROWS(#REF!),1),0)+E11,999),IFERROR(MATCH("*PhD*",OFFSET(Budget!#REF!,E11,0,ROWS(#REF!),1),0)+E11,999),IFERROR(MATCH("*PDEng*",OFFSET(Budget!#REF!,E11,0,ROWS(#REF!),1),0)+E11,999))<ROWS(#REF!),MIN(IFERROR(MATCH("*PostDoc*",OFFSET(Budget!#REF!,E11,0,ROWS(#REF!),1),0)+E11,999),IFERROR(MATCH("*PhD*",OFFSET(Budget!#REF!,E11,0,ROWS(#REF!),1),0)+E11,999),IFERROR(MATCH("*PDEng*",OFFSET(Budget!#REF!,E11,0,ROWS(#REF!),1),0)+E11,999)),"") -> #REF! | F12: =IFERROR(INDEX(#REF!,E12)*INDEX(#REF!,E12)/12,"") | H12: =IF(IFERROR(MATCH("*researcher*",OFFSET(Budget!#REF!,H11,0,ROWS(#REF!),1),0)+H11,999)<ROWS(#REF!),IFERROR(MATCH("*researcher*",OFFSET(Budget!#REF!,H11,0,ROWS(#REF!),1),0)+H11,999),"") -> #REF! | I12: =IF(ISERROR(IF(AND(INDEX(#REF!,H12)>=pers_oi_min_months,INDEX(#REF!,H12)/INDEX(#REF!,H12)*12/pers_other_nrhours_year>=pers_oi_minFTE)=TRUE,INDEX(#REF!,H12)/12,0)),"",IF(AND(INDEX(#REF!,H12)>=pers_oi_min_months,INDEX(#REF!,H12)/INDEX(#REF!,H12)*12/pers_other_nrhours_year>=pers_oi_minFTE)=TRUE,INDEX(#REF!,H12)/12,"")) | K12: =IF(IFERROR(MATCH("*Non-scientific*",OFFSET(Budget!#REF!,K11,0,ROWS(#REF!),1),0)+K11,999)<ROWS(#REF!),IFERROR(MATCH("*Non-scientific*",OFFSET(Budget!#REF!,K11,0,ROWS(#REF!),1),0)+K11,999),"") -> #REF! | L12: =IFERROR(INDEX(#REF!,K12),"") | N12: =IF(IFERROR(MATCH("*leave*",OFFSET(Budget!#REF!,N11,0,ROWS(#REF!),1),0)+N11,999)<ROWS(#REF!),IFERROR(MATCH("*leave*",OFFSET(Budget!#REF!,N11,0,ROWS(#REF!),1),0)+N11,999),"") -> #REF! | O12: =IFERROR(INDEX(#REF!,N12)*INDEX(#REF!,N12),"") | Q12: =IF(MIN(IFERROR(MATCH("*PostDoc*",OFFSET(Budget!#REF!,Q11,0,ROWS(#REF!)-Q11,1),0)+Q11,999),IFERROR(MATCH("*PhD*",OFFSET(Budget!#REF!,Q11,0,ROWS(#REF!)-Q11,1),0)+Q11,999),IFERROR(MATCH("*PDEng*",OFFSET(Budget!#REF!,Q11,0,ROWS(#REF!)-Q11,1),0)+Q11,999),IFERROR(MATCH("*Doctorate*",OFFSET(Budget!#REF!,Q11,0,ROWS(#REF!)-Q11,1),0)+Q11,999))<ROWS(#REF!),MIN(IFERROR(MATCH("*PostDoc*",OFFSET(Budget!#REF!,Q11,0,ROWS(#REF!)-Q11,1),0)+Q11,999),IFERROR(MATCH("*PhD*",OFFSET(Budget!#REF!,Q11,0,ROWS(#REF!)-Q11,1),0)+Q11,999),IFERROR(MATCH("*PDEng*",OFFSET(Budget!#REF!,Q11,0,ROWS(#REF!)-Q11,1),0)+Q11,999),IFERROR(MATCH("*Doctorate*",OFFSET(Budget!#REF!,Q11,0,ROWS(#REF!)-Q11,1),0)+Q11,999)),"") -> #REF! | R12: =IFERROR(INDEX(#REF!,Q12),"") | S12: =IFERROR(INDEX(#REF!,Q12),"") | T12: =IFERROR(INDEX(#REF!,Q12),"") | U12: =SUBSTITUTE(IFERROR(INDEX(#REF!,Q12),""),0,"") | V12: =SUBSTITUTE(IFERROR(INDEX(#REF!,Q12),""),0,"") | X12: =IF(ROW(E1549)-ROW($E$1548)<ROWS(#REF!),IFERROR(IF(INDEX(list_cofunders[private?],MATCH(Budget!#REF!,list_cofunders[list cofunders],0),1)="yes",Budget!#REF!,""),""),"") -> #REF! | Y12: =IF(ROW(E1652)-ROW($E$1651)<ROWS(#REF!),IFERROR(IF(INDEX(list_cofunders[private?],MATCH(Budget!#REF!,list_cofunders[list cofunders],0),1)="yes",Budget!#REF!,""),""),"") -> #REF! | Z12: =IFERROR(INDEX(#REF!,X12),"")
B13: =IF(IFERROR(MATCH("*Other*",OFFSET(Budget!#REF!,B12,0,ROWS(#REF!),1),0)+B12,999)<ROWS(#REF!),IFERROR(MATCH("*Other*",OFFSET(Budget!#REF!,B12,0,ROWS(#REF!),1),0)+B12,999),"") -> #REF! | C13: =IFERROR(INDEX(#REF!,B13),"") | E13: =IF(MIN(IFERROR(MATCH("*PostDoc*",OFFSET(Budget!#REF!,E12,0,ROWS(#REF!),1),0)+E12,999),IFERROR(MATCH("*PhD*",OFFSET(Budget!#REF!,E12,0,ROWS(#REF!),1),0)+E12,999),IFERROR(MATCH("*PDEng*",OFFSET(Budget!#REF!,E12,0,ROWS(#REF!),1),0)+E12,999))<ROWS(#REF!),MIN(IFERROR(MATCH("*PostDoc*",OFFSET(Budget!#REF!,E12,0,ROWS(#REF!),1),0)+E12,999),IFERROR(MATCH("*PhD*",OFFSET(Budget!#REF!,E12,0,ROWS(#REF!),1),0)+E12,999),IFERROR(MATCH("*PDEng*",OFFSET(Budget!#REF!,E12,0,ROWS(#REF!),1),0)+E12,999)),"") -> #REF! | F13: =IFERROR(INDEX(#REF!,E13)*INDEX(#REF!,E13)/12,"") | H13: =IF(IFERROR(MATCH("*researcher*",OFFSET(Budget!#REF!,H12,0,ROWS(#REF!),1),0)+H12,999)<ROWS(#REF!),IFERROR(MATCH("*researcher*",OFFSET(Budget!#REF!,H12,0,ROWS(#REF!),1),0)+H12,999),"") -> #REF! | I13: =IF(ISERROR(IF(AND(INDEX(#REF!,H13)>=pers_oi_min_months,INDEX(#REF!,H13)/INDEX(#REF!,H13)*12/pers_other_nrhours_year>=pers_oi_minFTE)=TRUE,INDEX(#REF!,H13)/12,0)),"",IF(AND(INDEX(#REF!,H13)>=pers_oi_min_months,INDEX(#REF!,H13)/INDEX(#REF!,H13)*12/pers_other_nrhours_year>=pers_oi_minFTE)=TRUE,INDEX(#REF!,H13)/12,"")) | K13: =IF(IFERROR(MATCH("*Non-scientific*",OFFSET(Budget!#REF!,K12,0,ROWS(#REF!),1),0)+K12,999)<ROWS(#REF!),IFERROR(MATCH("*Non-scientific*",OFFSET(Budget!#REF!,K12,0,ROWS(#REF!),1),0)+K12,999),"") -> #REF! | L13: =IFERROR(INDEX(#REF!,K13),"") | N13: =IF(IFERROR(MATCH("*leave*",OFFSET(Budget!#REF!,N12,0,ROWS(#REF!),1),0)+N12,999)<ROWS(#REF!),IFERROR(MATCH("*leave*",OFFSET(Budget!#REF!,N12,0,ROWS(#REF!),1),0)+N12,999),"") -> #REF! | O13: =IFERROR(INDEX(#REF!,N13)*INDEX(#REF!,N13),"") | Q13: =IF(MIN(IFERROR(MATCH("*PostDoc*",OFFSET(Budget!#REF!,Q12,0,ROWS(#REF!)-Q12,1),0)+Q12,999),IFERROR(MATCH("*PhD*",OFFSET(Budget!#REF!,Q12,0,ROWS(#REF!)-Q12,1),0)+Q12,999),IFERROR(MATCH("*PDEng*",OFFSET(Budget!#REF!,Q12,0,ROWS(#REF!)-Q12,1),0)+Q12,999),IFERROR(MATCH("*Doctorate*",OFFSET(Budget!#REF!,Q12,0,ROWS(#REF!)-Q12,1),0)+Q12,999))<ROWS(#REF!),MIN(IFERROR(MATCH("*PostDoc*",OFFSET(Budget!#REF!,Q12,0,ROWS(#REF!)-Q12,1),0)+Q12,999),IFERROR(MATCH("*PhD*",OFFSET(Budget!#REF!,Q12,0,ROWS(#REF!)-Q12,1),0)+Q12,999),IFERROR(MATCH("*PDEng*",OFFSET(Budget!#REF!,Q12,0,ROWS(#REF!)-Q12,1),0)+Q12,999),IFERROR(MATCH("*Doctorate*",OFFSET(Budget!#REF!,Q12,0,ROWS(#REF!)-Q12,1),0)+Q12,999)),"") -> #REF! | R13: =IFERROR(INDEX(#REF!,Q13),"") | S13: =IFERROR(INDEX(#REF!,Q13),"") | T13: =IFERROR(INDEX(#REF!,Q13),"") | U13: =SUBSTITUTE(IFERROR(INDEX(#REF!,Q13),""),0,"") | V13: =SUBSTITUTE(IFERROR(INDEX(#REF!,Q13),""),0,"") | X13: =IF(ROW(E1550)-ROW($E$1548)<ROWS(#REF!),IFERROR(IF(INDEX(list_cofunders[private?],MATCH(Budget!#REF!,list_cofunders[list cofunders],0),1)="yes",Budget!#REF!,""),""),"") -> #REF! | Y13: =IF(ROW(E1653)-ROW($E$1651)<ROWS(#REF!),IFERROR(IF(INDEX(list_cofunders[private?],MATCH(Budget!#REF!,list_cofunders[list cofunders],0),1)="yes",Budget!#REF!,""),""),"") -> #REF! | Z13: =IFERROR(INDEX(#REF!,X13),"")
B14: =IF(IFERROR(MATCH("*Other*",OFFSET(Budget!#REF!,B13,0,ROWS(#REF!),1),0)+B13,999)<ROWS(#REF!),IFERROR(MATCH("*Other*",OFFSET(Budget!#REF!,B13,0,ROWS(#REF!),1),0)+B13,999),"") -> #REF! | C14: =IFERROR(INDEX(#REF!,B14),"") | E14: =IF(MIN(IFERROR(MATCH("*PostDoc*",OFFSET(Budget!#REF!,E13,0,ROWS(#REF!),1),0)+E13,999),IFERROR(MATCH("*PhD*",OFFSET(Budget!#REF!,E13,0,ROWS(#REF!),1),0)+E13,999),IFERROR(MATCH("*PDEng*",OFFSET(Budget!#REF!,E13,0,ROWS(#REF!),1),0)+E13,999))<ROWS(#REF!),MIN(IFERROR(MATCH("*PostDoc*",OFFSET(Budget!#REF!,E13,0,ROWS(#REF!),1),0)+E13,999),IFERROR(MATCH("*PhD*",OFFSET(Budget!#REF!,E13,0,ROWS(#REF!),1),0)+E13,999),IFERROR(MATCH("*PDEng*",OFFSET(Budget!#REF!,E13,0,ROWS(#REF!),1),0)+E13,999)),"") -> #REF! | F14: =IFERROR(INDEX(#REF!,E14)*INDEX(#REF!,E14)/12,"") | H14: =IF(IFERROR(MATCH("*researcher*",OFFSET(Budget!#REF!,H13,0,ROWS(#REF!),1),0)+H13,999)<ROWS(#REF!),IFERROR(MATCH("*researcher*",OFFSET(Budget!#REF!,H13,0,ROWS(#REF!),1),0)+H13,999),"") -> #REF! | I14: =IF(ISERROR(IF(AND(INDEX(#REF!,H14)>=pers_oi_min_months,INDEX(#REF!,H14)/INDEX(#REF!,H14)*12/pers_other_nrhours_year>=pers_oi_minFTE)=TRUE,INDEX(#REF!,H14)/12,0)),"",IF(AND(INDEX(#REF!,H14)>=pers_oi_min_months,INDEX(#REF!,H14)/INDEX(#REF!,H14)*12/pers_other_nrhours_year>=pers_oi_minFTE)=TRUE,INDEX(#REF!,H14)/12,"")) | K14: =IF(IFERROR(MATCH("*Non-scientific*",OFFSET(Budget!#REF!,K13,0,ROWS(#REF!),1),0)+K13,999)<ROWS(#REF!),IFERROR(MATCH("*Non-scientific*",OFFSET(Budget!#REF!,K13,0,ROWS(#REF!),1),0)+K13,999),"") -> #REF! | L14: =IFERROR(INDEX(#REF!,K14),"") | N14: =IF(IFERROR(MATCH("*leave*",OFFSET(Budget!#REF!,N13,0,ROWS(#REF!),1),0)+N13,999)<ROWS(#REF!),IFERROR(MATCH("*leave*",OFFSET(Budget!#REF!,N13,0,ROWS(#REF!),1),0)+N13,999),"") -> #REF! | O14: =IFERROR(INDEX(#REF!,N14)*INDEX(#REF!,N14),"") | Q14: =IF(MIN(IFERROR(MATCH("*PostDoc*",OFFSET(Budget!#REF!,Q13,0,ROWS(#REF!)-Q13,1),0)+Q13,999),IFERROR(MATCH("*PhD*",OFFSET(Budget!#REF!,Q13,0,ROWS(#REF!)-Q13,1),0)+Q13,999),IFERROR(MATCH("*PDEng*",OFFSET(Budget!#REF!,Q13,0,ROWS(#REF!)-Q13,1),0)+Q13,999),IFERROR(MATCH("*Doctorate*",OFFSET(Budget!#REF!,Q13,0,ROWS(#REF!)-Q13,1),0)+Q13,999))<ROWS(#REF!),MIN(IFERROR(MATCH("*PostDoc*",OFFSET(Budget!#REF!,Q13,0,ROWS(#REF!)-Q13,1),0)+Q13,999),IFERROR(MATCH("*PhD*",OFFSET(Budget!#REF!,Q13,0,ROWS(#REF!)-Q13,1),0)+Q13,999),IFERROR(MATCH("*PDEng*",OFFSET(Budget!#REF!,Q13,0,ROWS(#REF!)-Q13,1),0)+Q13,999),IFERROR(MATCH("*Doctorate*",OFFSET(Budget!#REF!,Q13,0,ROWS(#REF!)-Q13,1),0)+Q13,999)),"") -> #REF! | R14: =IFERROR(INDEX(#REF!,Q14),"") | S14: =IFERROR(INDEX(#REF!,Q14),"") | T14: =IFERROR(INDEX(#REF!,Q14),"") | U14: =SUBSTITUTE(IFERROR(INDEX(#REF!,Q14),""),0,"") | V14: =SUBSTITUTE(IFERROR(INDEX(#REF!,Q14),""),0,"") | X14: =IF(ROW(E1551)-ROW($E$1548)<ROWS(#REF!),IFERROR(IF(INDEX(list_cofunders[private?],MATCH(Budget!#REF!,list_cofunders[list cofunders],0),1)="yes",Budget!#REF!,""),""),"") -> #REF! | Y14: =IF(ROW(E1654)-ROW($E$1651)<ROWS(#REF!),IFERROR(IF(INDEX(list_cofunders[private?],MATCH(Budget!#REF!,list_cofunders[list cofunders],0),1)="yes",Budget!#REF!,""),""),"") -> #REF! | Z14: =IFERROR(INDEX(#REF!,X14),"")
B15: =IF(IFERROR(MATCH("*Other*",OFFSET(Budget!#REF!,B14,0,ROWS(#REF!),1),0)+B14,999)<ROWS(#REF!),IFERROR(MATCH("*Other*",OFFSET(Budget!#REF!,B14,0,ROWS(#REF!),1),0)+B14,999),"") -> #REF! | C15: =IFERROR(INDEX(#REF!,B15),"") | E15: =IF(MIN(IFERROR(MATCH("*PostDoc*",OFFSET(Budget!#REF!,E14,0,ROWS(#REF!),1),0)+E14,999),IFERROR(MATCH("*PhD*",OFFSET(Budget!#REF!,E14,0,ROWS(#REF!),1),0)+E14,999),IFERROR(MATCH("*PDEng*",OFFSET(Budget!#REF!,E14,0,ROWS(#REF!),1),0)+E14,999))<ROWS(#REF!),MIN(IFERROR(MATCH("*PostDoc*",OFFSET(Budget!#REF!,E14,0,ROWS(#REF!),1),0)+E14,999),IFERROR(MATCH("*PhD*",OFFSET(Budget!#REF!,E14,0,ROWS(#REF!),1),0)+E14,999),IFERROR(MATCH("*PDEng*",OFFSET(Budget!#REF!,E14,0,ROWS(#REF!),1),0)+E14,999)),"") -> #REF! | F15: =IFERROR(INDEX(#REF!,E15)*INDEX(#REF!,E15)/12,"") | H15: =IF(IFERROR(MATCH("*researcher*",OFFSET(Budget!#REF!,H14,0,ROWS(#REF!),1),0)+H14,999)<ROWS(#REF!),IFERROR(MATCH("*researcher*",OFFSET(Budget!#REF!,H14,0,ROWS(#REF!),1),0)+H14,999),"") -> #REF! | I15: =IF(ISERROR(IF(AND(INDEX(#REF!,H15)>=pers_oi_min_months,INDEX(#REF!,H15)/INDEX(#REF!,H15)*12/pers_other_nrhours_year>=pers_oi_minFTE)=TRUE,INDEX(#REF!,H15)/12,0)),"",IF(AND(INDEX(#REF!,H15)>=pers_oi_min_months,INDEX(#REF!,H15)/INDEX(#REF!,H15)*12/pers_other_nrhours_year>=pers_oi_minFTE)=TRUE,INDEX(#REF!,H15)/12,"")) | K15: =IF(IFERROR(MATCH("*Non-scientific*",OFFSET(Budget!#REF!,K14,0,ROWS(#REF!),1),0)+K14,999)<ROWS(#REF!),IFERROR(MATCH("*Non-scientific*",OFFSET(Budget!#REF!,K14,0,ROWS(#REF!),1),0)+K14,999),"") -> #REF! | L15: =IFERROR(INDEX(#REF!,K15),"") | N15: =IF(IFERROR(MATCH("*leave*",OFFSET(Budget!#REF!,N14,0,ROWS(#REF!),1),0)+N14,999)<ROWS(#REF!),IFERROR(MATCH("*leave*",OFFSET(Budget!#REF!,N14,0,ROWS(#REF!),1),0)+N14,999),"") -> #REF! | O15: =IFERROR(INDEX(#REF!,N15)*INDEX(#REF!,N15),"") | Q15: =IF(MIN(IFERROR(MATCH("*PostDoc*",OFFSET(Budget!#REF!,Q14,0,ROWS(#REF!)-Q14,1),0)+Q14,999),IFERROR(MATCH("*PhD*",OFFSET(Budget!#REF!,Q14,0,ROWS(#REF!)-Q14,1),0)+Q14,999),IFERROR(MATCH("*PDEng*",OFFSET(Budget!#REF!,Q14,0,ROWS(#REF!)-Q14,1),0)+Q14,999),IFERROR(MATCH("*Doctorate*",OFFSET(Budget!#REF!,Q14,0,ROWS(#REF!)-Q14,1),0)+Q14,999))<ROWS(#REF!),MIN(IFERROR(MATCH("*PostDoc*",OFFSET(Budget!#REF!,Q14,0,ROWS(#REF!)-Q14,1),0)+Q14,999),IFERROR(MATCH("*PhD*",OFFSET(Budget!#REF!,Q14,0,ROWS(#REF!)-Q14,1),0)+Q14,999),IFERROR(MATCH("*PDEng*",OFFSET(Budget!#REF!,Q14,0,ROWS(#REF!)-Q14,1),0)+Q14,999),IFERROR(MATCH("*Doctorate*",OFFSET(Budget!#REF!,Q14,0,ROWS(#REF!)-Q14,1),0)+Q14,999)),"") -> #REF! | R15: =IFERROR(INDEX(#REF!,Q15),"") | S15: =IFERROR(INDEX(#REF!,Q15),"") | T15: =IFERROR(INDEX(#REF!,Q15),"") | U15: =SUBSTITUTE(IFERROR(INDEX(#REF!,Q15),""),0,"") | V15: =SUBSTITUTE(IFERROR(INDEX(#REF!,Q15),""),0,"") | X15: =IF(ROW(E1552)-ROW($E$1548)<ROWS(#REF!),IFERROR(IF(INDEX(list_cofunders[private?],MATCH(Budget!#REF!,list_cofunders[list cofunders],0),1)="yes",Budget!#REF!,""),""),"") -> #REF! | Y15: =IF(ROW(E1655)-ROW($E$1651)<ROWS(#REF!),IFERROR(IF(INDEX(list_cofunders[private?],MATCH(Budget!#REF!,list_cofunders[list cofunders],0),1)="yes",Budget!#REF!,""),""),"") -> #REF! | Z15: =IFERROR(INDEX(#REF!,X15),"")
B16: =IF(IFERROR(MATCH("*Other*",OFFSET(Budget!#REF!,B15,0,ROWS(#REF!),1),0)+B15,999)<ROWS(#REF!),IFERROR(MATCH("*Other*",OFFSET(Budget!#REF!,B15,0,ROWS(#REF!),1),0)+B15,999),"") -> #REF! | C16: =IFERROR(INDEX(#REF!,B16),"") | E16: =IF(MIN(IFERROR(MATCH("*PostDoc*",OFFSET(Budget!#REF!,E15,0,ROWS(#REF!),1),0)+E15,999),IFERROR(MATCH("*PhD*",OFFSET(Budget!#REF!,E15,0,ROWS(#REF!),1),0)+E15,999),IFERROR(MATCH("*PDEng*",OFFSET(Budget!#REF!,E15,0,ROWS(#REF!),1),0)+E15,999))<ROWS(#REF!),MIN(IFERROR(MATCH("*PostDoc*",OFFSET(Budget!#REF!,E15,0,ROWS(#REF!),1),0)+E15,999),IFERROR(MATCH("*PhD*",OFFSET(Budget!#REF!,E15,0,ROWS(#REF!),1),0)+E15,999),IFERROR(MATCH("*PDEng*",OFFSET(Budget!#REF!,E15,0,ROWS(#REF!),1),0)+E15,999)),"") -> #REF! | F16: =IFERROR(INDEX(#REF!,E16)*INDEX(#REF!,E16)/12,"") | H16: =IF(IFERROR(MATCH("*researcher*",OFFSET(Budget!#REF!,H15,0,ROWS(#REF!),1),0)+H15,999)<ROWS(#REF!),IFERROR(MATCH("*researcher*",OFFSET(Budget!#REF!,H15,0,ROWS(#REF!),1),0)+H15,999),"") -> #REF! | I16: =IF(ISERROR(IF(AND(INDEX(#REF!,H16)>=pers_oi_min_months,INDEX(#REF!,H16)/INDEX(#REF!,H16)*12/pers_other_nrhours_year>=pers_oi_minFTE)=TRUE,INDEX(#REF!,H16)/12,0)),"",IF(AND(INDEX(#REF!,H16)>=pers_oi_min_months,INDEX(#REF!,H16)/INDEX(#REF!,H16)*12/pers_other_nrhours_year>=pers_oi_minFTE)=TRUE,INDEX(#REF!,H16)/12,"")) | K16: =IF(IFERROR(MATCH("*Non-scientific*",OFFSET(Budget!#REF!,K15,0,ROWS(#REF!),1),0)+K15,999)<ROWS(#REF!),IFERROR(MATCH("*Non-scientific*",OFFSET(Budget!#REF!,K15,0,ROWS(#REF!),1),0)+K15,999),"") -> #REF! | L16: =IFERROR(INDEX(#REF!,K16),"") | N16: =IF(IFERROR(MATCH("*leave*",OFFSET(Budget!#REF!,N15,0,ROWS(#REF!),1),0)+N15,999)<ROWS(#REF!),IFERROR(MATCH("*leave*",OFFSET(Budget!#REF!,N15,0,ROWS(#REF!),1),0)+N15,999),"") -> #REF! | O16: =IFERROR(INDEX(#REF!,N16)*INDEX(#REF!,N16),"") | Q16: =IF(MIN(IFERROR(MATCH("*PostDoc*",OFFSET(Budget!#REF!,Q15,0,ROWS(#REF!)-Q15,1),0)+Q15,999),IFERROR(MATCH("*PhD*",OFFSET(Budget!#REF!,Q15,0,ROWS(#REF!)-Q15,1),0)+Q15,999),IFERROR(MATCH("*PDEng*",OFFSET(Budget!#REF!,Q15,0,ROWS(#REF!)-Q15,1),0)+Q15,999),IFERROR(MATCH("*Doctorate*",OFFSET(Budget!#REF!,Q15,0,ROWS(#REF!)-Q15,1),0)+Q15,999))<ROWS(#REF!),MIN(IFERROR(MATCH("*PostDoc*",OFFSET(Budget!#REF!,Q15,0,ROWS(#REF!)-Q15,1),0)+Q15,999),IFERROR(MATCH("*PhD*",OFFSET(Budget!#REF!,Q15,0,ROWS(#REF!)-Q15,1),0)+Q15,999),IFERROR(MATCH("*PDEng*",OFFSET(Budget!#REF!,Q15,0,ROWS(#REF!)-Q15,1),0)+Q15,999),IFERROR(MATCH("*Doctorate*",OFFSET(Budget!#REF!,Q15,0,ROWS(#REF!)-Q15,1),0)+Q15,999)),"") -> #REF! | R16: =IFERROR(INDEX(#REF!,Q16),"") | S16: =IFERROR(INDEX(#REF!,Q16),"") | T16: =IFERROR(INDEX(#REF!,Q16),"") | U16: =SUBSTITUTE(IFERROR(INDEX(#REF!,Q16),""),0,"") | V16: =SUBSTITUTE(IFERROR(INDEX(#REF!,Q16),""),0,"") | X16: =IF(ROW(E1553)-ROW($E$1548)<ROWS(#REF!),IFERROR(IF(INDEX(list_cofunders[private?],MATCH(Budget!#REF!,list_cofunders[list cofunders],0),1)="yes",Budget!#REF!,""),""),"") -> #REF! | Y16: =IF(ROW(E1656)-ROW($E$1651)<ROWS(#REF!),IFERROR(IF(INDEX(list_cofunders[private?],MATCH(Budget!#REF!,list_cofunders[list cofunders],0),1)="yes",Budget!#REF!,""),""),"") -> #REF! | Z16: =IFERROR(INDEX(#REF!,X16),"")
B17: =IF(IFERROR(MATCH("*Other*",OFFSET(Budget!#REF!,B16,0,ROWS(#REF!),1),0)+B16,999)<ROWS(#REF!),IFERROR(MATCH("*Other*",OFFSET(Budget!#REF!,B16,0,ROWS(#REF!),1),0)+B16,999),"") -> #REF! | C17: =IFERROR(INDEX(#REF!,B17),"") | E17: =IF(MIN(IFERROR(MATCH("*PostDoc*",OFFSET(Budget!#REF!,E16,0,ROWS(#REF!),1),0)+E16,999),IFERROR(MATCH("*PhD*",OFFSET(Budget!#REF!,E16,0,ROWS(#REF!),1),0)+E16,999),IFERROR(MATCH("*PDEng*",OFFSET(Budget!#REF!,E16,0,ROWS(#REF!),1),0)+E16,999))<ROWS(#REF!),MIN(IFERROR(MATCH("*PostDoc*",OFFSET(Budget!#REF!,E16,0,ROWS(#REF!),1),0)+E16,999),IFERROR(MATCH("*PhD*",OFFSET(Budget!#REF!,E16,0,ROWS(#REF!),1),0)+E16,999),IFERROR(MATCH("*PDEng*",OFFSET(Budget!#REF!,E16,0,ROWS(#REF!),1),0)+E16,999)),"") -> #REF! | F17: =IFERROR(INDEX(#REF!,E17)*INDEX(#REF!,E17)/12,"") | H17: =IF(IFERROR(MATCH("*researcher*",OFFSET(Budget!#REF!,H16,0,ROWS(#REF!),1),0)+H16,999)<ROWS(#REF!),IFERROR(MATCH("*researcher*",OFFSET(Budget!#REF!,H16,0,ROWS(#REF!),1),0)+H16,999),"") -> #REF! | I17: =IF(ISERROR(IF(AND(INDEX(#REF!,H17)>=pers_oi_min_months,INDEX(#REF!,H17)/INDEX(#REF!,H17)*12/pers_other_nrhours_year>=pers_oi_minFTE)=TRUE,INDEX(#REF!,H17)/12,0)),"",IF(AND(INDEX(#REF!,H17)>=pers_oi_min_months,INDEX(#REF!,H17)/INDEX(#REF!,H17)*12/pers_other_nrhours_year>=pers_oi_minFTE)=TRUE,INDEX(#REF!,H17)/12,"")) | K17: =IF(IFERROR(MATCH("*Non-scientific*",OFFSET(Budget!#REF!,K16,0,ROWS(#REF!),1),0)+K16,999)<ROWS(#REF!),IFERROR(MATCH("*Non-scientific*",OFFSET(Budget!#REF!,K16,0,ROWS(#REF!),1),0)+K16,999),"") -> #REF! | L17: =IFERROR(INDEX(#REF!,K17),"") | N17: =IF(IFERROR(MATCH("*leave*",OFFSET(Budget!#REF!,N16,0,ROWS(#REF!),1),0)+N16,999)<ROWS(#REF!),IFERROR(MATCH("*leave*",OFFSET(Budget!#REF!,N16,0,ROWS(#REF!),1),0)+N16,999),"") -> #REF! | O17: =IFERROR(INDEX(#REF!,N17)*INDEX(#REF!,N17),"") | Q17: =IF(MIN(IFERROR(MATCH("*PostDoc*",OFFSET(Budget!#REF!,Q16,0,ROWS(#REF!)-Q16,1),0)+Q16,999),IFERROR(MATCH("*PhD*",OFFSET(Budget!#REF!,Q16,0,ROWS(#REF!)-Q16,1),0)+Q16,999),IFERROR(MATCH("*PDEng*",OFFSET(Budget!#REF!,Q16,0,ROWS(#REF!)-Q16,1),0)+Q16,999),IFERROR(MATCH("*Doctorate*",OFFSET(Budget!#REF!,Q16,0,ROWS(#REF!)-Q16,1),0)+Q16,999))<ROWS(#REF!),MIN(IFERROR(MATCH("*PostDoc*",OFFSET(Budget!#REF!,Q16,0,ROWS(#REF!)-Q16,1),0)+Q16,999),IFERROR(MATCH("*PhD*",OFFSET(Budget!#REF!,Q16,0,ROWS(#REF!)-Q16,1),0)+Q16,999),IFERROR(MATCH("*PDEng*",OFFSET(Budget!#REF!,Q16,0,ROWS(#REF!)-Q16,1),0)+Q16,999),IFERROR(MATCH("*Doctorate*",OFFSET(Budget!#REF!,Q16,0,ROWS(#REF!)-Q16,1),0)+Q16,999)),"") -> #REF! | R17: =IFERROR(INDEX(#REF!,Q17),"") | S17: =IFERROR(INDEX(#REF!,Q17),"") | T17: =IFERROR(INDEX(#REF!,Q17),"") | U17: =SUBSTITUTE(IFERROR(INDEX(#REF!,Q17),""),0,"") | V17: =SUBSTITUTE(IFERROR(INDEX(#REF!,Q17),""),0,"") | X17: =IF(ROW(E1554)-ROW($E$1548)<ROWS(#REF!),IFERROR(IF(INDEX(list_cofunders[private?],MATCH(Budget!#REF!,list_cofunders[list cofunders],0),1)="yes",Budget!#REF!,""),""),"") -> #REF! | Y17: =IF(ROW(E1657)-ROW($E$1651)<ROWS(#REF!),IFERROR(IF(INDEX(list_cofunders[private?],MATCH(Budget!#REF!,list_cofunders[list cofunders],0),1)="yes",Budget!#REF!,""),""),"") -> #REF! | Z17: =IFERROR(INDEX(#REF!,X17),"")
B18: =IF(IFERROR(MATCH("*Other*",OFFSET(Budget!#REF!,B17,0,ROWS(#REF!),1),0)+B17,999)<ROWS(#REF!),IFERROR(MATCH("*Other*",OFFSET(Budget!#REF!,B17,0,ROWS(#REF!),1),0)+B17,999),"") -> #REF! | C18: =IFERROR(INDEX(#REF!,B18),"") | E18: =IF(MIN(IFERROR(MATCH("*PostDoc*",OFFSET(Budget!#REF!,E17,0,ROWS(#REF!),1),0)+E17,999),IFERROR(MATCH("*PhD*",OFFSET(Budget!#REF!,E17,0,ROWS(#REF!),1),0)+E17,999),IFERROR(MATCH("*PDEng*",OFFSET(Budget!#REF!,E17,0,ROWS(#REF!),1),0)+E17,999))<ROWS(#REF!),MIN(IFERROR(MATCH("*PostDoc*",OFFSET(Budget!#REF!,E17,0,ROWS(#REF!),1),0)+E17,999),IFERROR(MATCH("*PhD*",OFFSET(Budget!#REF!,E17,0,ROWS(#REF!),1),0)+E17,999),IFERROR(MATCH("*PDEng*",OFFSET(Budget!#REF!,E17,0,ROWS(#REF!),1),0)+E17,999)),"") -> #REF! | F18: =IFERROR(INDEX(#REF!,E18)*INDEX(#REF!,E18)/12,"") | H18: =IF(IFERROR(MATCH("*researcher*",OFFSET(Budget!#REF!,H17,0,ROWS(#REF!),1),0)+H17,999)<ROWS(#REF!),IFERROR(MATCH("*researcher*",OFFSET(Budget!#REF!,H17,0,ROWS(#REF!),1),0)+H17,999),"") -> #REF! | I18: =IF(ISERROR(IF(AND(INDEX(#REF!,H18)>=pers_oi_min_months,INDEX(#REF!,H18)/INDEX(#REF!,H18)*12/pers_other_nrhours_year>=pers_oi_minFTE)=TRUE,INDEX(#REF!,H18)/12,0)),"",IF(AND(INDEX(#REF!,H18)>=pers_oi_min_months,INDEX(#REF!,H18)/INDEX(#REF!,H18)*12/pers_other_nrhours_year>=pers_oi_minFTE)=TRUE,INDEX(#REF!,H18)/12,"")) | K18: =IF(IFERROR(MATCH("*Non-scientific*",OFFSET(Budget!#REF!,K17,0,ROWS(#REF!),1),0)+K17,999)<ROWS(#REF!),IFERROR(MATCH("*Non-scientific*",OFFSET(Budget!#REF!,K17,0,ROWS(#REF!),1),0)+K17,999),"") -> #REF! | L18: =IFERROR(INDEX(#REF!,K18),"") | N18: =IF(IFERROR(MATCH("*leave*",OFFSET(Budget!#REF!,N17,0,ROWS(#REF!),1),0)+N17,999)<ROWS(#REF!),IFERROR(MATCH("*leave*",OFFSET(Budget!#REF!,N17,0,ROWS(#REF!),1),0)+N17,999),"") -> #REF! | O18: =IFERROR(INDEX(#REF!,N18)*INDEX(#REF!,N18),"") | Q18: =IF(MIN(IFERROR(MATCH("*PostDoc*",OFFSET(Budget!#REF!,Q17,0,ROWS(#REF!)-Q17,1),0)+Q17,999),IFERROR(MATCH("*PhD*",OFFSET(Budget!#REF!,Q17,0,ROWS(#REF!)-Q17,1),0)+Q17,999),IFERROR(MATCH("*PDEng*",OFFSET(Budget!#REF!,Q17,0,ROWS(#REF!)-Q17,1),0)+Q17,999),IFERROR(MATCH("*Doctorate*",OFFSET(Budget!#REF!,Q17,0,ROWS(#REF!)-Q17,1),0)+Q17,999))<ROWS(#REF!),MIN(IFERROR(MATCH("*PostDoc*",OFFSET(Budget!#REF!,Q17,0,ROWS(#REF!)-Q17,1),0)+Q17,999),IFERROR(MATCH("*PhD*",OFFSET(Budget!#REF!,Q17,0,ROWS(#REF!)-Q17,1),0)+Q17,999),IFERROR(MATCH("*PDEng*",OFFSET(Budget!#REF!,Q17,0,ROWS(#REF!)-Q17,1),0)+Q17,999),IFERROR(MATCH("*Doctorate*",OFFSET(Budget!#REF!,Q17,0,ROWS(#REF!)-Q17,1),0)+Q17,999)),"") -> #REF! | R18: =IFERROR(INDEX(#REF!,Q18),"") | S18: =IFERROR(INDEX(#REF!,Q18),"") | T18: =IFERROR(INDEX(#REF!,Q18),"") | U18: =SUBSTITUTE(IFERROR(INDEX(#REF!,Q18),""),0,"") | V18: =SUBSTITUTE(IFERROR(INDEX(#REF!,Q18),""),0,"") | X18: =IF(ROW(E1555)-ROW($E$1548)<ROWS(#REF!),IFERROR(IF(INDEX(list_cofunders[private?],MATCH(Budget!#REF!,list_cofunders[list cofunders],0),1)="yes",Budget!#REF!,""),""),"") -> #REF! | Y18: =IF(ROW(E1658)-ROW($E$1651)<ROWS(#REF!),IFERROR(IF(INDEX(list_cofunders[private?],MATCH(Budget!#REF!,list_cofunders[list cofunders],0),1)="yes",Budget!#REF!,""),""),"") -> #REF! | Z18: =IFERROR(INDEX(#REF!,X18),"")
B19: =IF(IFERROR(MATCH("*Other*",OFFSET(Budget!#REF!,B18,0,ROWS(#REF!),1),0)+B18,999)<ROWS(#REF!),IFERROR(MATCH("*Other*",OFFSET(Budget!#REF!,B18,0,ROWS(#REF!),1),0)+B18,999),"") -> #REF! | C19: =IFERROR(INDEX(#REF!,B19),"") | E19: =IF(MIN(IFERROR(MATCH("*PostDoc*",OFFSET(Budget!#REF!,E18,0,ROWS(#REF!),1),0)+E18,999),IFERROR(MATCH("*PhD*",OFFSET(Budget!#REF!,E18,0,ROWS(#REF!),1),0)+E18,999),IFERROR(MATCH("*PDEng*",OFFSET(Budget!#REF!,E18,0,ROWS(#REF!),1),0)+E18,999))<ROWS(#REF!),MIN(IFERROR(MATCH("*PostDoc*",OFFSET(Budget!#REF!,E18,0,ROWS(#REF!),1),0)+E18,999),IFERROR(MATCH("*PhD*",OFFSET(Budget!#REF!,E18,0,ROWS(#REF!),1),0)+E18,999),IFERROR(MATCH("*PDEng*",OFFSET(Budget!#REF!,E18,0,ROWS(#REF!),1),0)+E18,999)),"") -> #REF! | F19: =IFERROR(INDEX(#REF!,E19)*INDEX(#REF!,E19)/12,"") | H19: =IF(IFERROR(MATCH("*researcher*",OFFSET(Budget!#REF!,H18,0,ROWS(#REF!),1),0)+H18,999)<ROWS(#REF!),IFERROR(MATCH("*researcher*",OFFSET(Budget!#REF!,H18,0,ROWS(#REF!),1),0)+H18,999),"") -> #REF! | I19: =IF(ISERROR(IF(AND(INDEX(#REF!,H19)>=pers_oi_min_months,INDEX(#REF!,H19)/INDEX(#REF!,H19)*12/pers_other_nrhours_year>=pers_oi_minFTE)=TRUE,INDEX(#REF!,H19)/12,0)),"",IF(AND(INDEX(#REF!,H19)>=pers_oi_min_months,INDEX(#REF!,H19)/INDEX(#REF!,H19)*12/pers_other_nrhours_year>=pers_oi_minFTE)=TRUE,INDEX(#REF!,H19)/12,"")) | K19: =IF(IFERROR(MATCH("*Non-scientific*",OFFSET(Budget!#REF!,K18,0,ROWS(#REF!),1),0)+K18,999)<ROWS(#REF!),IFERROR(MATCH("*Non-scientific*",OFFSET(Budget!#REF!,K18,0,ROWS(#REF!),1),0)+K18,999),"") -> #REF! | L19: =IFERROR(INDEX(#REF!,K19),"") | N19: =IF(IFERROR(MATCH("*leave*",OFFSET(Budget!#REF!,N18,0,ROWS(#REF!),1),0)+N18,999)<ROWS(#REF!),IFERROR(MATCH("*leave*",OFFSET(Budget!#REF!,N18,0,ROWS(#REF!),1),0)+N18,999),"") -> #REF! | O19: =IFERROR(INDEX(#REF!,N19)*INDEX(#REF!,N19),"") | Q19: =IF(MIN(IFERROR(MATCH("*PostDoc*",OFFSET(Budget!#REF!,Q18,0,ROWS(#REF!)-Q18,1),0)+Q18,999),IFERROR(MATCH("*PhD*",OFFSET(Budget!#REF!,Q18,0,ROWS(#REF!)-Q18,1),0)+Q18,999),IFERROR(MATCH("*PDEng*",OFFSET(Budget!#REF!,Q18,0,ROWS(#REF!)-Q18,1),0)+Q18,999),IFERROR(MATCH("*Doctorate*",OFFSET(Budget!#REF!,Q18,0,ROWS(#REF!)-Q18,1),0)+Q18,999))<ROWS(#REF!),MIN(IFERROR(MATCH("*PostDoc*",OFFSET(Budget!#REF!,Q18,0,ROWS(#REF!)-Q18,1),0)+Q18,999),IFERROR(MATCH("*PhD*",OFFSET(Budget!#REF!,Q18,0,ROWS(#REF!)-Q18,1),0)+Q18,999),IFERROR(MATCH("*PDEng*",OFFSET(Budget!#REF!,Q18,0,ROWS(#REF!)-Q18,1),0)+Q18,999),IFERROR(MATCH("*Doctorate*",OFFSET(Budget!#REF!,Q18,0,ROWS(#REF!)-Q18,1),0)+Q18,999)),"") -> #REF! | R19: =IFERROR(INDEX(#REF!,Q19),"") | S19: =IFERROR(INDEX(#REF!,Q19),"") | T19: =IFERROR(INDEX(#REF!,Q19),"") | U19: =SUBSTITUTE(IFERROR(INDEX(#REF!,Q19),""),0,"") | V19: =SUBSTITUTE(IFERROR(INDEX(#REF!,Q19),""),0,"") | X19: =IF(ROW(E1556)-ROW($E$1548)<ROWS(#REF!),IFERROR(IF(INDEX(list_cofunders[private?],MATCH(Budget!#REF!,list_cofunders[list cofunders],0),1)="yes",Budget!#REF!,""),""),"") -> #REF! | Y19: =IF(ROW(E1659)-ROW($E$1651)<ROWS(#REF!),IFERROR(IF(INDEX(list_cofunders[private?],MATCH(Budget!#REF!,list_cofunders[list cofunders],0),1)="yes",Budget!#REF!,""),""),"") -> #REF! | Z19: =IFERROR(INDEX(#REF!,X19),"")
B20: =IF(IFERROR(MATCH("*Other*",OFFSET(Budget!#REF!,B19,0,ROWS(#REF!),1),0)+B19,999)<ROWS(#REF!),IFERROR(MATCH("*Other*",OFFSET(Budget!#REF!,B19,0,ROWS(#REF!),1),0)+B19,999),"") -> #REF! | C20: =IFERROR(INDEX(#REF!,B20),"") | E20: =IF(MIN(IFERROR(MATCH("*PostDoc*",OFFSET(Budget!#REF!,E19,0,ROWS(#REF!),1),0)+E19,999),IFERROR(MATCH("*PhD*",OFFSET(Budget!#REF!,E19,0,ROWS(#REF!),1),0)+E19,999),IFERROR(MATCH("*PDEng*",OFFSET(Budget!#REF!,E19,0,ROWS(#REF!),1),0)+E19,999))<ROWS(#REF!),MIN(IFERROR(MATCH("*PostDoc*",OFFSET(Budget!#REF!,E19,0,ROWS(#REF!),1),0)+E19,999),IFERROR(MATCH("*PhD*",OFFSET(Budget!#REF!,E19,0,ROWS(#REF!),1),0)+E19,999),IFERROR(MATCH("*PDEng*",OFFSET(Budget!#REF!,E19,0,ROWS(#REF!),1),0)+E19,999)),"") -> #REF! | F20: =IFERROR(INDEX(#REF!,E20)*INDEX(#REF!,E20)/12,"") | H20: =IF(IFERROR(MATCH("*researcher*",OFFSET(Budget!#REF!,H19,0,ROWS(#REF!),1),0)+H19,999)<ROWS(#REF!),IFERROR(MATCH("*researcher*",OFFSET(Budget!#REF!,H19,0,ROWS(#REF!),1),0)+H19,999),"") -> #REF! | I20: =IF(ISERROR(IF(AND(INDEX(#REF!,H20)>=pers_oi_min_months,INDEX(#REF!,H20)/INDEX(#REF!,H20)*12/pers_other_nrhours_year>=pers_oi_minFTE)=TRUE,INDEX(#REF!,H20)/12,0)),"",IF(AND(INDEX(#REF!,H20)>=pers_oi_min_months,INDEX(#REF!,H20)/INDEX(#REF!,H20)*12/pers_other_nrhours_year>=pers_oi_minFTE)=TRUE,INDEX(#REF!,H20)/12,"")) | K20: =IF(IFERROR(MATCH("*Non-scientific*",OFFSET(Budget!#REF!,K19,0,ROWS(#REF!),1),0)+K19,999)<ROWS(#REF!),IFERROR(MATCH("*Non-scientific*",OFFSET(Budget!#REF!,K19,0,ROWS(#REF!),1),0)+K19,999),"") -> #REF! | L20: =IFERROR(INDEX(#REF!,K20),"") | N20: =IF(IFERROR(MATCH("*leave*",OFFSET(Budget!#REF!,N19,0,ROWS(#REF!),1),0)+N19,999)<ROWS(#REF!),IFERROR(MATCH("*leave*",OFFSET(Budget!#REF!,N19,0,ROWS(#REF!),1),0)+N19,999),"") -> #REF! | O20: =IFERROR(INDEX(#REF!,N20)*INDEX(#REF!,N20),"") | Q20: =IF(MIN(IFERROR(MATCH("*PostDoc*",OFFSET(Budget!#REF!,Q19,0,ROWS(#REF!)-Q19,1),0)+Q19,999),IFERROR(MATCH("*PhD*",OFFSET(Budget!#REF!,Q19,0,ROWS(#REF!)-Q19,1),0)+Q19,999),IFERROR(MATCH("*PDEng*",OFFSET(Budget!#REF!,Q19,0,ROWS(#REF!)-Q19,1),0)+Q19,999),IFERROR(MATCH("*Doctorate*",OFFSET(Budget!#REF!,Q19,0,ROWS(#REF!)-Q19,1),0)+Q19,999))<ROWS(#REF!),MIN(IFERROR(MATCH("*PostDoc*",OFFSET(Budget!#REF!,Q19,0,ROWS(#REF!)-Q19,1),0)+Q19,999),IFERROR(MATCH("*PhD*",OFFSET(Budget!#REF!,Q19,0,ROWS(#REF!)-Q19,1),0)+Q19,999),IFERROR(MATCH("*PDEng*",OFFSET(Budget!#REF!,Q19,0,ROWS(#REF!)-Q19,1),0)+Q19,999),IFERROR(MATCH("*Doctorate*",OFFSET(Budget!#REF!,Q19,0,ROWS(#REF!)-Q19,1),0)+Q19,999)),"") -> #REF! | R20: =IFERROR(INDEX(#REF!,Q20),"") | S20: =IFERROR(INDEX(#REF!,Q20),"") | T20: =IFERROR(INDEX(#REF!,Q20),"") | U20: =SUBSTITUTE(IFERROR(INDEX(#REF!,Q20),""),0,"") | V20: =SUBSTITUTE(IFERROR(INDEX(#REF!,Q20),""),0,"") | X20: =IF(ROW(E1557)-ROW($E$1548)<ROWS(#REF!),IFERROR(IF(INDEX(list_cofunders[private?],MATCH(Budget!#REF!,list_cofunders[list cofunders],0),1)="yes",Budget!#REF!,""),""),"") -> #REF! | Y20: =IF(ROW(E1660)-ROW($E$1651)<ROWS(#REF!),IFERROR(IF(INDEX(list_cofunders[private?],MATCH(Budget!#REF!,list_cofunders[list cofunders],0),1)="yes",Budget!#REF!,""),""),"") -> #REF! | Z20: =IFERROR(INDEX(#REF!,X20),"")
B21: =IF(IFERROR(MATCH("*Other*",OFFSET(Budget!#REF!,B20,0,ROWS(#REF!),1),0)+B20,999)<ROWS(#REF!),IFERROR(MATCH("*Other*",OFFSET(Budget!#REF!,B20,0,ROWS(#REF!),1),0)+B20,999),"") -> #REF! | C21: =IFERROR(INDEX(#REF!,B21),"") | E21: =IF(MIN(IFERROR(MATCH("*PostDoc*",OFFSET(Budget!#REF!,E20,0,ROWS(#REF!),1),0)+E20,999),IFERROR(MATCH("*PhD*",OFFSET(Budget!#REF!,E20,0,ROWS(#REF!),1),0)+E20,999),IFERROR(MATCH("*PDEng*",OFFSET(Budget!#REF!,E20,0,ROWS(#REF!),1),0)+E20,999))<ROWS(#REF!),MIN(IFERROR(MATCH("*PostDoc*",OFFSET(Budget!#REF!,E20,0,ROWS(#REF!),1),0)+E20,999),IFERROR(MATCH("*PhD*",OFFSET(Budget!#REF!,E20,0,ROWS(#REF!),1),0)+E20,999),IFERROR(MATCH("*PDEng*",OFFSET(Budget!#REF!,E20,0,ROWS(#REF!),1),0)+E20,999)),"") -> #REF! | F21: =IFERROR(INDEX(#REF!,E21)*INDEX(#REF!,E21)/12,"") | H21: =IF(IFERROR(MATCH("*researcher*",OFFSET(Budget!#REF!,H20,0,ROWS(#REF!),1),0)+H20,999)<ROWS(#REF!),IFERROR(MATCH("*researcher*",OFFSET(Budget!#REF!,H20,0,ROWS(#REF!),1),0)+H20,999),"") -> #REF! | I21: =IF(ISERROR(IF(AND(INDEX(#REF!,H21)>=pers_oi_min_months,INDEX(#REF!,H21)/INDEX(#REF!,H21)*12/pers_other_nrhours_year>=pers_oi_minFTE)=TRUE,INDEX(#REF!,H21)/12,0)),"",IF(AND(INDEX(#REF!,H21)>=pers_oi_min_months,INDEX(#REF!,H21)/INDEX(#REF!,H21)*12/pers_other_nrhours_year>=pers_oi_minFTE)=TRUE,INDEX(#REF!,H21)/12,"")) | K21: =IF(IFERROR(MATCH("*Non-scientific*",OFFSET(Budget!#REF!,K20,0,ROWS(#REF!),1),0)+K20,999)<ROWS(#REF!),IFERROR(MATCH("*Non-scientific*",OFFSET(Budget!#REF!,K20,0,ROWS(#REF!),1),0)+K20,999),"") -> #REF! | L21: =IFERROR(INDEX(#REF!,K21),"") | N21: =IF(IFERROR(MATCH("*leave*",OFFSET(Budget!#REF!,N20,0,ROWS(#REF!),1),0)+N20,999)<ROWS(#REF!),IFERROR(MATCH("*leave*",OFFSET(Budget!#REF!,N20,0,ROWS(#REF!),1),0)+N20,999),"") -> #REF! | O21: =IFERROR(INDEX(#REF!,N21)*INDEX(#REF!,N21),"") | Q21: =IF(MIN(IFERROR(MATCH("*PostDoc*",OFFSET(Budget!#REF!,Q20,0,ROWS(#REF!)-Q20,1),0)+Q20,999),IFERROR(MATCH("*PhD*",OFFSET(Budget!#REF!,Q20,0,ROWS(#REF!)-Q20,1),0)+Q20,999),IFERROR(MATCH("*PDEng*",OFFSET(Budget!#REF!,Q20,0,ROWS(#REF!)-Q20,1),0)+Q20,999),IFERROR(MATCH("*Doctorate*",OFFSET(Budget!#REF!,Q20,0,ROWS(#REF!)-Q20,1),0)+Q20,999))<ROWS(#REF!),MIN(IFERROR(MATCH("*PostDoc*",OFFSET(Budget!#REF!,Q20,0,ROWS(#REF!)-Q20,1),0)+Q20,999),IFERROR(MATCH("*PhD*",OFFSET(Budget!#REF!,Q20,0,ROWS(#REF!)-Q20,1),0)+Q20,999),IFERROR(MATCH("*PDEng*",OFFSET(Budget!#REF!,Q20,0,ROWS(#REF!)-Q20,1),0)+Q20,999),IFERROR(MATCH("*Doctorate*",OFFSET(Budget!#REF!,Q20,0,ROWS(#REF!)-Q20,1),0)+Q20,999)),"") -> #REF! | R21: =IFERROR(INDEX(#REF!,Q21),"") | S21: =IFERROR(INDEX(#REF!,Q21),"") | T21: =IFERROR(INDEX(#REF!,Q21),"") | U21: =SUBSTITUTE(IFERROR(INDEX(#REF!,Q21),""),0,"") | V21: =SUBSTITUTE(IFERROR(INDEX(#REF!,Q21),""),0,"") | X21: =IF(ROW(E1558)-ROW($E$1548)<ROWS(#REF!),IFERROR(IF(INDEX(list_cofunders[private?],MATCH(Budget!#REF!,list_cofunders[list cofunders],0),1)="yes",Budget!#REF!,""),""),"") -> #REF! | Y21: =IF(ROW(E1661)-ROW($E$1651)<ROWS(#REF!),IFERROR(IF(INDEX(list_cofunders[private?],MATCH(Budget!#REF!,list_cofunders[list cofunders],0),1)="yes",Budget!#REF!,""),""),"") -> #REF! | Z21: =IFERROR(INDEX(#REF!,X21),"")
B22: =IF(IFERROR(MATCH("*Other*",OFFSET(Budget!#REF!,B21,0,ROWS(#REF!),1),0)+B21,999)<ROWS(#REF!),IFERROR(MATCH("*Other*",OFFSET(Budget!#REF!,B21,0,ROWS(#REF!),1),0)+B21,999),"") -> #REF! | C22: =IFERROR(INDEX(#REF!,B22),"") | E22: =IF(MIN(IFERROR(MATCH("*PostDoc*",OFFSET(Budget!#REF!,E21,0,ROWS(#REF!),1),0)+E21,999),IFERROR(MATCH("*PhD*",OFFSET(Budget!#REF!,E21,0,ROWS(#REF!),1),0)+E21,999),IFERROR(MATCH("*PDEng*",OFFSET(Budget!#REF!,E21,0,ROWS(#REF!),1),0)+E21,999))<ROWS(#REF!),MIN(IFERROR(MATCH("*PostDoc*",OFFSET(Budget!#REF!,E21,0,ROWS(#REF!),1),0)+E21,999),IFERROR(MATCH("*PhD*",OFFSET(Budget!#REF!,E21,0,ROWS(#REF!),1),0)+E21,999),IFERROR(MATCH("*PDEng*",OFFSET(Budget!#REF!,E21,0,ROWS(#REF!),1),0)+E21,999)),"") -> #REF! | F22: =IFERROR(INDEX(#REF!,E22)*INDEX(#REF!,E22)/12,"") | H22: =IF(IFERROR(MATCH("*researcher*",OFFSET(Budget!#REF!,H21,0,ROWS(#REF!),1),0)+H21,999)<ROWS(#REF!),IFERROR(MATCH("*researcher*",OFFSET(Budget!#REF!,H21,0,ROWS(#REF!),1),0)+H21,999),"") -> #REF! | I22: =IF(ISERROR(IF(AND(INDEX(#REF!,H22)>=pers_oi_min_months,INDEX(#REF!,H22)/INDEX(#REF!,H22)*12/pers_other_nrhours_year>=pers_oi_minFTE)=TRUE,INDEX(#REF!,H22)/12,0)),"",IF(AND(INDEX(#REF!,H22)>=pers_oi_min_months,INDEX(#REF!,H22)/INDEX(#REF!,H22)*12/pers_other_nrhours_year>=pers_oi_minFTE)=TRUE,INDEX(#REF!,H22)/12,"")) | K22: =IF(IFERROR(MATCH("*Non-scientific*",OFFSET(Budget!#REF!,K21,0,ROWS(#REF!),1),0)+K21,999)<ROWS(#REF!),IFERROR(MATCH("*Non-scientific*",OFFSET(Budget!#REF!,K21,0,ROWS(#REF!),1),0)+K21,999),"") -> #REF! | L22: =IFERROR(INDEX(#REF!,K22),"") | N22: =IF(IFERROR(MATCH("*leave*",OFFSET(Budget!#REF!,N21,0,ROWS(#REF!),1),0)+N21,999)<ROWS(#REF!),IFERROR(MATCH("*leave*",OFFSET(Budget!#REF!,N21,0,ROWS(#REF!),1),0)+N21,999),"") -> #REF! | O22: =IFERROR(INDEX(#REF!,N22)*INDEX(#REF!,N22),"") | Q22: =IF(MIN(IFERROR(MATCH("*PostDoc*",OFFSET(Budget!#REF!,Q21,0,ROWS(#REF!)-Q21,1),0)+Q21,999),IFERROR(MATCH("*PhD*",OFFSET(Budget!#REF!,Q21,0,ROWS(#REF!)-Q21,1),0)+Q21,999),IFERROR(MATCH("*PDEng*",OFFSET(Budget!#REF!,Q21,0,ROWS(#REF!)-Q21,1),0)+Q21,999),IFERROR(MATCH("*Doctorate*",OFFSET(Budget!#REF!,Q21,0,ROWS(#REF!)-Q21,1),0)+Q21,999))<ROWS(#REF!),MIN(IFERROR(MATCH("*PostDoc*",OFFSET(Budget!#REF!,Q21,0,ROWS(#REF!)-Q21,1),0)+Q21,999),IFERROR(MATCH("*PhD*",OFFSET(Budget!#REF!,Q21,0,ROWS(#REF!)-Q21,1),0)+Q21,999),IFERROR(MATCH("*PDEng*",OFFSET(Budget!#REF!,Q21,0,ROWS(#REF!)-Q21,1),0)+Q21,999),IFERROR(MATCH("*Doctorate*",OFFSET(Budget!#REF!,Q21,0,ROWS(#REF!)-Q21,1),0)+Q21,999)),"") -> #REF! | R22: =IFERROR(INDEX(#REF!,Q22),"") | S22: =IFERROR(INDEX(#REF!,Q22),"") | T22: =IFERROR(INDEX(#REF!,Q22),"") | U22: =SUBSTITUTE(IFERROR(INDEX(#REF!,Q22),""),0,"") | V22: =SUBSTITUTE(IFERROR(INDEX(#REF!,Q22),""),0,"") | X22: =IF(ROW(E1559)-ROW($E$1548)<ROWS(#REF!),IFERROR(IF(INDEX(list_cofunders[private?],MATCH(Budget!#REF!,list_cofunders[list cofunders],0),1)="yes",Budget!#REF!,""),""),"") -> #REF! | Y22: =IF(ROW(E1662)-ROW($E$1651)<ROWS(#REF!),IFERROR(IF(INDEX(list_cofunders[private?],MATCH(Budget!#REF!,list_cofunders[list cofunders],0),1)="yes",Budget!#REF!,""),""),"") -> #REF! | Z22: =IFERROR(INDEX(#REF!,X22),"")
... B110: =IF(IFERROR(MATCH("*Other*",OFFSET(Budget!#REF!,B109,0,ROWS(#REF!),1),0)+B109,999)<ROWS(#REF!),IFERROR(MATCH("*Other*",OFFSET(Budget!#REF!,B109,0,ROWS(#REF!),1),0)+B109,999),"") -> #REF! | C110: =IFERROR(INDEX(#REF!,B110),"") | E110: =IF(MIN(IFERROR(MATCH("*PostDoc*",OFFSET(Budget!#REF!,E109,0,ROWS(#REF!),1),0)+E109,999),IFERROR(MATCH("*PhD*",OFFSET(Budget!#REF!,E109,0,ROWS(#REF!),1),0)+E109,999),IFERROR(MATCH("*PDEng*",OFFSET(Budget!#REF!,E109,0,ROWS(#REF!),1),0)+E109,999))<ROWS(#REF!),MIN(IFERROR(MATCH("*PostDoc*",OFFSET(Budget!#REF!,E109,0,ROWS(#REF!),1),0)+E109,999),IFERROR(MATCH("*PhD*",OFFSET(Budget!#REF!,E109,0,ROWS(#REF!),1),0)+E109,999),IFERROR(MATCH("*PDEng*",OFFSET(Budget!#REF!,E109,0,ROWS(#REF!),1),0)+E109,999)),"") -> #REF! | F110: =IFERROR(INDEX(#REF!,E110)*INDEX(#REF!,E110)/12,"") | H110: =IF(IFERROR(MATCH("*researcher*",OFFSET(Budget!#REF!,H109,0,ROWS(#REF!),1),0)+H109,999)<ROWS(#REF!),IFERROR(MATCH("*researcher*",OFFSET(Budget!#REF!,H109,0,ROWS(#REF!),1),0)+H109,999),"") -> #REF! | I110: =IF(ISERROR(IF(AND(INDEX(#REF!,H110)>=pers_oi_min_months,INDEX(#REF!,H110)/INDEX(#REF!,H110)*12/pers_other_nrhours_year>=pers_oi_minFTE)=TRUE,INDEX(#REF!,H110)/12,0)),"",IF(AND(INDEX(#REF!,H110)>=pers_oi_min_months,INDEX(#REF!,H110)/INDEX(#REF!,H110)*12/pers_other_nrhours_year>=pers_oi_minFTE)=TRUE,INDEX(#REF!,H110)/12,"")) | K110: =IF(IFERROR(MATCH("*Non-scientific*",OFFSET(Budget!#REF!,K109,0,ROWS(#REF!),1),0)+K109,999)<ROWS(#REF!),IFERROR(MATCH("*Non-scientific*",OFFSET(Budget!#REF!,K109,0,ROWS(#REF!),1),0)+K109,999),"") -> #REF! | L110: =IFERROR(INDEX(#REF!,K110),"") | N110: =IF(IFERROR(MATCH("*leave*",OFFSET(Budget!#REF!,N109,0,ROWS(#REF!),1),0)+N109,999)<ROWS(#REF!),IFERROR(MATCH("*leave*",OFFSET(Budget!#REF!,N109,0,ROWS(#REF!),1),0)+N109,999),"") -> #REF! | O110: =IFERROR(INDEX(#REF!,N110)*INDEX(#REF!,N110),"") | Q110: =IF(MIN(IFERROR(MATCH("*PostDoc*",OFFSET(Budget!#REF!,Q109,0,ROWS(#REF!)-Q109,1),0)+Q109,999),IFERROR(MATCH("*PhD*",OFFSET(Budget!#REF!,Q109,0,ROWS(#REF!)-Q109,1),0)+Q109,999),IFERROR(MATCH("*PDEng*",OFFSET(Budget!#REF!,Q109,0,ROWS(#REF!)-Q109,1),0)+Q109,999),IFERROR(MATCH("*Doctorate*",OFFSET(Budget!#REF!,Q109,0,ROWS(#REF!)-Q109,1),0)+Q109,999))<ROWS(#REF!),MIN(IFERROR(MATCH("*PostDoc*",OFFSET(Budget!#REF!,Q109,0,ROWS(#REF!)-Q109,1),0)+Q109,999),IFERROR(MATCH("*PhD*",OFFSET(Budget!#REF!,Q109,0,ROWS(#REF!)-Q109,1),0)+Q109,999),IFERROR(MATCH("*PDEng*",OFFSET(Budget!#REF!,Q109,0,ROWS(#REF!)-Q109,1),0)+Q109,999),IFERROR(MATCH("*Doctorate*",OFFSET(Budget!#REF!,Q109,0,ROWS(#REF!)-Q109,1),0)+Q109,999)),"") -> #REF! | R110: =IFERROR(INDEX(#REF!,Q110),"") | S110: =IFERROR(INDEX(#REF!,Q110),"") | T110: =IFERROR(INDEX(#REF!,Q110),"") | U110: =SUBSTITUTE(IFERROR(INDEX(#REF!,Q110),""),0,"") | V110: =SUBSTITUTE(IFERROR(INDEX(#REF!,Q110),""),0,"") | X110: =IF(ROW(E1647)-ROW($E$1548)<ROWS(#REF!),IFERROR(IF(INDEX(list_cofunders[private?],MATCH(Budget!#REF!,list_cofunders[list cofunders],0),1)="yes",Budget!#REF!,""),""),"") -> #REF! | Y110: =IF(ROW(E1750)-ROW($E$1651)<ROWS(#REF!),IFERROR(IF(INDEX(list_cofunders[private?],MATCH(Budget!#REF!,list_cofunders[list cofunders],0),1)="yes",Budget!#REF!,""),""),"") -> #REF! | Z110: =IFERROR(INDEX(#REF!,X110),"")
B112: Total: | C112: =SUM(C11:C110) -> 0 | E112: Total: | F112: =SUM(F11:F110) -> 0 | H112: Total: | I112: =SUM(I11:I110) -> 0 | K112: Total: | L112: =SUM(L11:L110) -> 0 | N112: Total: | O112: =SUM(O11:O110) -> 0 | W112: Totals: | X112: =SUM(X11:X110) -> #REF! | Y112: =SUM(Y11:Y110) -> #REF!
W113: Total priv. cof.: | X113: =X112+Y112 -> #REF!
A116: Checklist valid entries
A117: Situation | B117: Message | C117: Remarks
A118: Project title not provided | B118: Project title is not provided.
A119: No File number provided | B119: File number is not provided.
A120: Start date later than end date | B120: Start date before end date.
A121: Start date not provided | B121: Start date not provided.
A122: End date not provided | B122: End date not provided.
A123: Start date before today | B123: Start date lies in the past.
A124: Project duration too long | B124: ="The envisioned project duration exceeds the limit of "&Max_project_duration& " months." -> The envisioned project duration exceeds the limit of 12 months.
A125: Requested NWO budget too low | B125: ="Total NWO funding is less than the minimum required "&TEXT(Min_NWO_funding,"€ #.#") & "." -> Total NWO funding is less than the minimum required € .
A126: Requested NWO budget too high | B126: ="Total NWO funding may not exceed "&TEXT(Max_NWO_funding,"€ #.#") & "." -> Total NWO funding may not exceed € 30.000.
